BEGIN:VCALENDAR
VERSION:2.0
PRODID:-//Universo Visual - ECPv6.15.20//NONSGML v1.0//EN
CALSCALE:GREGORIAN
METHOD:PUBLISH
X-WR-CALNAME:Universo Visual
X-ORIGINAL-URL:https://universovisual.com.br
X-WR-CALDESC:Eventos para Universo Visual
REFRESH-INTERVAL;VALUE=DURATION:PT1H
X-Robots-Tag:noindex
X-PUBLISHED-TTL:PT1H
BEGIN:VTIMEZONE
TZID:America/Sao_Paulo
BEGIN:STANDARD
TZOFFSETFROM:-0300
TZOFFSETTO:-0300
TZNAME:-03
DTSTART:20240101T000000
END:STANDARD
END:VTIMEZONE
BEGIN:VEVENT
DTSTART;VALUE=DATE:20251202
DTEND;VALUE=DATE:20251207
DTSTAMP:20260419T095145
CREATED:20250605T155006Z
LAST-MODIFIED:20250605T155006Z
UID:33314-1764633600-1765065599@universovisual.com.br
SUMMARY:Congresso de Oftalmologia USP 2025
DESCRIPTION:O Congresso de Oftalmologia da USP 2025 acontece de 2 a 8 de dezembro de 2025\, em São Paulo/SP. Para mais informações acesse cousp.com.br \nCursos do Pré-Congresso: 02 a 04 de dezembro\nCongresso: 05 e 06 de dezembro
URL:https://universovisual.com.br/evento/congresso-de-oftalmologia-usp-2025/
END:VEVENT
END:VCALENDAR