BEGIN:VCALENDAR
VERSION:2.0
PRODID:-//Universo Visual - ECPv6.15.20//NONSGML v1.0//EN
CALSCALE:GREGORIAN
METHOD:PUBLISH
X-WR-CALNAME:Universo Visual
X-ORIGINAL-URL:https://universovisual.com.br
X-WR-CALDESC:Eventos para Universo Visual
REFRESH-INTERVAL;VALUE=DURATION:PT1H
X-Robots-Tag:noindex
X-PUBLISHED-TTL:PT1H
BEGIN:VTIMEZONE
TZID:America/Sao_Paulo
BEGIN:STANDARD
TZOFFSETFROM:-0300
TZOFFSETTO:-0300
TZNAME:-03
DTSTART:20250101T000000
END:STANDARD
END:VTIMEZONE
BEGIN:VEVENT
DTSTART;VALUE=DATE:20260417
DTEND;VALUE=DATE:20260421
DTSTAMP:20260420T151112
CREATED:20250407T182700Z
LAST-MODIFIED:20250916T152820Z
UID:32816-1776384000-1776729599@universovisual.com.br
SUMMARY:50º BRAVS Meeting | RETINA 2026
DESCRIPTION:O 50º BRAVS Meeting acontece de 17 a 20 de abril de 2026\, no Transamérica Expo Center em São Paulo/SP. Para mais informações acesse www.retina2026.com.br
URL:https://universovisual.com.br/evento/50o-bravs-meeting-retina-2026/
END:VEVENT
END:VCALENDAR